BEGIN:VCALENDAR
VERSION:2.0
PRODID:-//The Boston Common Frog Pond - ECPv6.8.1//NONSGML v1.0//EN
CALSCALE:GREGORIAN
METHOD:PUBLISH
X-WR-CALNAME:The Boston Common Frog Pond
X-ORIGINAL-URL:https://bostonfrogpond.com
X-WR-CALDESC:Events for The Boston Common Frog Pond
REFRESH-INTERVAL;VALUE=DURATION:PT1H
X-Robots-Tag:noindex
X-PUBLISHED-TTL:PT1H
BEGIN:VTIMEZONE
TZID:UTC
BEGIN:STANDARD
TZOFFSETFROM:+0000
TZOFFSETTO:+0000
TZNAME:UTC
DTSTART:20250101T000000
END:STANDARD
END:VTIMEZONE
BEGIN:VEVENT
DTSTART;TZID=UTC:20250119T073000
DTEND;TZID=UTC:20250119T082000
DTSTAMP:20260422T145940
CREATED:20241224T190346Z
LAST-MODIFIED:20241224T194835Z
UID:2395-1737271800-1737274800@bostonfrogpond.com
SUMMARY:IceFlow Yoga on Ice
DESCRIPTION:Take part in a gentle yoga-inspired skating class for adults of ALL skill levels. Start your day stretching\, breathing\, and gliding in a positive way! \nLearn More and Sign-Up Now!
URL:https://bostonfrogpond.com/events/iceflow-yoga-on-ice/2025-01-19/
LOCATION:MA
CATEGORIES:Calendar
ATTACH;FMTTYPE=image/jpeg:https://bostonfrogpond.com/wp-content/uploads/2020/11/Frog-Pond-Slideshow-1920px-winter-snow.jpg
END:VEVENT
BEGIN:VEVENT
DTSTART;TZID=UTC:20250126T073000
DTEND;TZID=UTC:20250126T082000
DTSTAMP:20260422T145940
CREATED:20241224T190721Z
LAST-MODIFIED:20241224T194909Z
UID:2397-1737876600-1737879600@bostonfrogpond.com
SUMMARY:IceFlow Yoga on Ice
DESCRIPTION:Take part in a gentle yoga-inspired skating class for adults of ALL skill levels. Start your day stretching\, breathing\, and gliding in a positive way! \nLearn More and Sign-Up Now!
URL:https://bostonfrogpond.com/events/iceflow-yoga-on-ice-2/
LOCATION:MA
CATEGORIES:Calendar
ATTACH;FMTTYPE=image/jpeg:https://bostonfrogpond.com/wp-content/uploads/2020/11/Frog-Pond-Slideshow-1920px-winter-snow.jpg
END:VEVENT
END:VCALENDAR