BEGIN:VCALENDAR
VERSION:2.0
PRODID:-//The Boston Common Frog Pond - ECPv6.8.1//NONSGML v1.0//EN
CALSCALE:GREGORIAN
METHOD:PUBLISH
X-ORIGINAL-URL:https://bostonfrogpond.com
X-WR-CALDESC:Events for The Boston Common Frog Pond
REFRESH-INTERVAL;VALUE=DURATION:PT1H
X-Robots-Tag:noindex
X-PUBLISHED-TTL:PT1H
BEGIN:VTIMEZONE
TZID:UTC
BEGIN:STANDARD
TZOFFSETFROM:+0000
TZOFFSETTO:+0000
TZNAME:UTC
DTSTART:20260101T000000
END:STANDARD
END:VTIMEZONE
BEGIN:VEVENT
DTSTART;TZID=UTC:20260208T073000
DTEND;TZID=UTC:20260208T083000
DTSTAMP:20260424T161109
CREATED:20251207T031054Z
LAST-MODIFIED:20260206T171651Z
UID:2476-1770535800-1770539400@bostonfrogpond.com
SUMMARY:POSTPONED: IceFlow\, Yoga on Ice
DESCRIPTION:
URL:https://bostonfrogpond.com/events/iceflow-yoga-on-ice-5/
LOCATION:Boston Common Frog Pond\, Beacon Street\, Boston Common\, Boston\, MA\, United States
CATEGORIES:Calendar
ATTACH;FMTTYPE=image/jpeg:https://bostonfrogpond.com/wp-content/uploads/2025/12/image.jpeg
END:VEVENT
END:VCALENDAR