BEGIN:VCALENDAR
VERSION:2.0
PRODID:-//The Boston Common Frog Pond - ECPv6.8.1//NONSGML v1.0//EN
CALSCALE:GREGORIAN
METHOD:PUBLISH
X-WR-CALNAME:The Boston Common Frog Pond
X-ORIGINAL-URL:https://bostonfrogpond.com
X-WR-CALDESC:Events for The Boston Common Frog Pond
REFRESH-INTERVAL;VALUE=DURATION:PT1H
X-Robots-Tag:noindex
X-PUBLISHED-TTL:PT1H
BEGIN:VTIMEZONE
TZID:UTC
BEGIN:STANDARD
TZOFFSETFROM:+0000
TZOFFSETTO:+0000
TZNAME:UTC
DTSTART:20250101T000000
END:STANDARD
END:VTIMEZONE
BEGIN:VEVENT
DTSTART;TZID=UTC:20250624T110000
DTEND;TZID=UTC:20250624T130000
DTSTAMP:20260424T162747
CREATED:20250623T232015Z
LAST-MODIFIED:20250623T232015Z
UID:2439-1750762800-1750770000@bostonfrogpond.com
SUMMARY:The Frog Pond Spray Pool Opening Event
DESCRIPTION:
URL:https://bostonfrogpond.com/events/the-frog-pond-spray-pool-opening-event/
LOCATION:Boston Common Frog Pond\, Beacon Street\, Boston Common\, Boston\, MA\, United States
CATEGORIES:Calendar
ATTACH;FMTTYPE=image/jpeg:https://bostonfrogpond.com/wp-content/uploads/2024/06/DSC0062-scaled.jpg
END:VEVENT
END:VCALENDAR